BEGIN:VCALENDAR
PRODID:-//kirchenweb.ch gmbh//veranstaltungsausgabe v2.0//DE
VERSION:2.0
METHOD:PUBLISH
BEGIN:VEVENT
DTSTART:20261027T140000Z
DTEND:20261027T160000Z
LOCATION:Tituskirche\, Im tiefen Boden 75\, 4059 Basel
TRANSP:OPAQUE
SEQUENCE:0
UID:213636-veranstaltung@erk-bs.ch
DTSTAMP:20260305T075008Z
DESCRIPTION:Wort/Musik/Vortrag\n\nGespräch mit Jean-Jacques Dünki über
  sein neues Buch über Robert Schumann und Musik von Robert Schumann
  gespielt von Jean-Jacques Dünki.\n\nVorbereitungsgruppe: Christine
  Baader und Waldtraut Mehrhof\n\nKontakt: Monika Widmer\n\nWeitere Infos:
  https://www.erk-bs.ch/veranstaltung/213636
SUMMARY:Titus: Ü65 AKTIV UND COMFORT
PRIORITY:5
X-MICROSOFT-CDO-IMPORTANCE:1
CLASS:PUBLIC
END:VEVENT
END:VCALENDAR
