BEGIN:VCALENDAR
PRODID:-//kirchenweb.ch gmbh//veranstaltungsausgabe v2.0//DE
VERSION:2.0
METHOD:PUBLISH
BEGIN:VEVENT
DTSTART:20261124T140000Z
DTEND:20261124T160000Z
LOCATION:Tituskirche\, Im tiefen Boden 75\, 4059 Basel
TRANSP:OPAQUE
SEQUENCE:0
UID:213637-veranstaltung@erk-bs.ch
DTSTAMP:20260305T075013Z
DESCRIPTION:Lebenspraktisches\n\nSicherheit im Alter mit praktischen
  Beispielen\, Rollenspielen und Informationen der Polizei (Andreas
  Bläsi\, Sicherheitsbeauftragter)\n\nVorbereitungsteam: Daniela Maurer
  und Beat Ochsner\n\nKontakt: Monika Widmer\n\nWeitere Infos:
  https://www.erk-bs.ch/veranstaltung/213637
SUMMARY:Titus: Ü65 AKTIV UND COMFORT
PRIORITY:5
X-MICROSOFT-CDO-IMPORTANCE:1
CLASS:PUBLIC
END:VEVENT
END:VCALENDAR
