BEGIN:VCALENDAR
PRODID:-//kirchenweb.ch gmbh//veranstaltungsausgabe v2.0//DE
VERSION:2.0
METHOD:PUBLISH
BEGIN:VEVENT
DTSTART:20260428T143000Z
DTEND:20260428T173000Z
LOCATION:Tituskirche\, Im tiefen Boden 75\, 4059 Basel
TRANSP:OPAQUE
SEQUENCE:0
UID:213739-veranstaltung@erk-bs.ch
DTSTAMP:20251023T064102Z
DESCRIPTION:Kontakt: larissa.kessler@erk-bs.ch\n\nWeitere Infos:
  https://www.erk-bs.ch/veranstaltung/213739
SUMMARY:Konfirmandenunterricht
PRIORITY:5
X-MICROSOFT-CDO-IMPORTANCE:1
CLASS:PUBLIC
END:VEVENT
END:VCALENDAR
