BEGIN:VCALENDAR
PRODID:-//kirchenweb.ch gmbh//veranstaltungsausgabe v2.0//DE
VERSION:2.0
METHOD:PUBLISH
BEGIN:VEVENT
DTSTART:20260430T143000Z
DTEND:20260430T173000Z
LOCATION:Tituskirche\, Im tiefen Boden 75\, 4059 Basel
TRANSP:OPAQUE
SEQUENCE:0
UID:213742-veranstaltung@erk-bs.ch
DTSTAMP:20251023T064134Z
DESCRIPTION:Kontakt: Harald Matern Schneider\n\nWeitere Infos:
  https://www.erk-bs.ch/veranstaltung/213742
SUMMARY:Präparandenunterricht
PRIORITY:5
X-MICROSOFT-CDO-IMPORTANCE:1
CLASS:PUBLIC
END:VEVENT
END:VCALENDAR
