BEGIN:VCALENDAR
PRODID:-//kirchenweb.ch gmbh//veranstaltungsausgabe v2.0//DE
VERSION:2.0
METHOD:PUBLISH
BEGIN:VEVENT
DTSTART:20260503T080000Z
DTEND:20260503T090000Z
LOCATION:Tituskirche\, Im tiefen Boden 75\, 4059 Basel
TRANSP:OPAQUE
SEQUENCE:0
UID:213805-veranstaltung@erk-bs.ch
DTSTAMP:20251023T071013Z
DESCRIPTION:Kontakt: Harald Matern Schneider\nLaurence Thom\n\nWeitere
  Infos: https://www.erk-bs.ch/veranstaltung/213805
SUMMARY:Gottesdienst mit Kinderfeier
PRIORITY:5
X-MICROSOFT-CDO-IMPORTANCE:1
CLASS:PUBLIC
END:VEVENT
END:VCALENDAR
