BEGIN:VCALENDAR
PRODID:-//kirchenweb.ch gmbh//veranstaltungsausgabe v2.0//DE
VERSION:2.0
METHOD:PUBLISH
BEGIN:VEVENT
DTSTART:20260531T080000Z
DTEND:20260531T083000Z
LOCATION:Tituskirche\, Im tiefen Boden 75\, 4059 Basel
TRANSP:OPAQUE
SEQUENCE:0
UID:213809-veranstaltung@erk-bs.ch
DTSTAMP:20251023T071259Z
DESCRIPTION:Kontakt: Harald Matern Schneider\nAndreas Möri\nMonika Widmer
 \n\nWeitere Infos: https://www.erk-bs.ch/veranstaltung/213809
SUMMARY:Gottesdienstliche Feier mit anschliessender KGV
PRIORITY:5
X-MICROSOFT-CDO-IMPORTANCE:1
CLASS:PUBLIC
END:VEVENT
END:VCALENDAR
