BEGIN:VCALENDAR
PRODID:-//kirchenweb.ch gmbh//veranstaltungsausgabe v2.0//DE
VERSION:2.0
METHOD:PUBLISH
BEGIN:VEVENT
DTSTART:20260726T150000Z
DTEND:20260726T160000Z
LOCATION:Tituskirche\, Im tiefen Boden 75\, 4059 Basel
TRANSP:OPAQUE
SEQUENCE:0
UID:213921-veranstaltung@erk-bs.ch
DTSTAMP:20251023T071730Z
DESCRIPTION:Kontakt: Harald Matern Schneider\n\nWeitere Infos:
  https://www.erk-bs.ch/veranstaltung/213921
SUMMARY:Gottesdienst mit QCB
PRIORITY:5
X-MICROSOFT-CDO-IMPORTANCE:1
CLASS:PUBLIC
END:VEVENT
END:VCALENDAR
