BEGIN:VCALENDAR
PRODID:-//kirchenweb.ch gmbh//veranstaltungsausgabe v2.0//DE
VERSION:2.0
METHOD:PUBLISH
BEGIN:VEVENT
DTSTART:20251115T130000Z
DTEND:20251115T163000Z
LOCATION:Meierhof Riehen\, Kirchplatz 7\, 4125 Riehen
TRANSP:OPAQUE
SEQUENCE:0
UID:214248-veranstaltung@erk-bs.ch
DTSTAMP:20251028T181305Z
DESCRIPTION:14.00 - 17.30 Uhr\nTreffpunkt: Meierhof\n \nMitnehmen:
  Trinken\, dem Wetter angepasste Kleider die dreckig werden dürfen\, Velo
  mit Helm oder Trottinett\, Sackmesser\n\n\nKontakt:\nSalome Wenk\,
  salome.wenk@erk-bs.ch\, 079 501 25 87\nBasil Altmann\,
  basil.altmann@erk-bs.ch\n\n\nKontakt: jungschi.admin@erk-bs.ch\n\nWeitere
  Infos: https://www.erk-bs.ch/veranstaltung/214248
SUMMARY:Jungschar Riehen-Dorf: Die Gemeinde in Antiochia
PRIORITY:5
X-MICROSOFT-CDO-IMPORTANCE:1
CLASS:PUBLIC
END:VEVENT
END:VCALENDAR
