BEGIN:VCALENDAR
PRODID:-//kirchenweb.ch gmbh//veranstaltungsausgabe v2.0//DE
VERSION:2.0
METHOD:PUBLISH
BEGIN:VEVENT
DTSTART:20251115T130000Z
DTEND:20251115T160000Z
LOCATION:Kirche Bettingen\, Brohegasse 3\, 4126 Bettingen
TRANSP:OPAQUE
SEQUENCE:0
UID:214302-veranstaltung@erk-bs.ch
DTSTAMP:20251115T122234Z
DESCRIPTION:Kontakt: Kaleb Wolf\n\n\nWeitere Infos:
  https://www.erk-bs.ch/veranstaltung/214302
SUMMARY:Jungschar Bettingen-Chrischona
PRIORITY:5
X-MICROSOFT-CDO-IMPORTANCE:1
CLASS:PUBLIC
END:VEVENT
END:VCALENDAR
