BEGIN:VCALENDAR
PRODID:-//kirchenweb.ch gmbh//veranstaltungsausgabe v2.0//DE
VERSION:2.0
METHOD:PUBLISH
BEGIN:VEVENT
DTSTART:20260719T080000Z
DTEND:20260719T090000Z
LOCATION:Zwinglihaus\, Gundeldingerstrasse 370\, 4053 4053 Basel
TRANSP:OPAQUE
SEQUENCE:0
UID:214329-veranstaltung@erk-bs.ch
DTSTAMP:20250807T133131Z
DESCRIPTION:Gottesdienst mit Pfr. Andreas Möri und Tiziana Fanelli\n
 \nKontakt: Andreas Möri\n\nWeitere Infos:
  https://www.erk-bs.ch/veranstaltung/214329
SUMMARY:Gottesdienst
PRIORITY:5
X-MICROSOFT-CDO-IMPORTANCE:1
CLASS:PUBLIC
END:VEVENT
END:VCALENDAR
