BEGIN:VCALENDAR
PRODID:-//kirchenweb.ch gmbh//veranstaltungsausgabe v2.0//DE
VERSION:2.0
METHOD:PUBLISH
BEGIN:VEVENT
DTSTART:20261129T160000Z
DTEND:20261129T173000Z
LOCATION:Zwinglihaus\, Gundeldingerstrasse 370\, 4053 4053 Basel
TRANSP:OPAQUE
SEQUENCE:0
UID:214341-veranstaltung@erk-bs.ch
DTSTAMP:20250926T150350Z
DESCRIPTION:Abendgottesdienst zum 1. Advent mit Abendmahl\, Monika Widmer
  und Tiziana Fanelli\nMitwirkung Bläserensemble\n\nKontakt: Monika Widmer
 \n\nWeitere Infos: https://www.erk-bs.ch/veranstaltung/214341
SUMMARY:Abendgottesdienst am 1. Advent mit Abendmahl
PRIORITY:5
X-MICROSOFT-CDO-IMPORTANCE:1
CLASS:PUBLIC
END:VEVENT
END:VCALENDAR
