BEGIN:VCALENDAR
PRODID:-//kirchenweb.ch gmbh//veranstaltungsausgabe v2.0//DE
VERSION:2.0
METHOD:PUBLISH
BEGIN:VEVENT
DTSTART:20261119T110000Z
DTEND:20261119T123000Z
LOCATION:Titus Kirche\, Im tiefen Boden 75\, 4059 Basel
TRANSP:OPAQUE
SEQUENCE:0
UID:214444-veranstaltung@erk-bs.ch
DTSTAMP:20250811T081622Z
DESCRIPTION:Kontakt: daniel.burri@erk-bs.ch\n\nWeitere Infos:
  https://www.erk-bs.ch/veranstaltung/214444
SUMMARY:Mittagsclub
PRIORITY:5
X-MICROSOFT-CDO-IMPORTANCE:1
CLASS:PUBLIC
END:VEVENT
END:VCALENDAR
