BEGIN:VCALENDAR
PRODID:-//kirchenweb.ch gmbh//veranstaltungsausgabe v2.0//DE
VERSION:2.0
METHOD:PUBLISH
BEGIN:VEVENT
DTSTART:20260419T080000Z
DTEND:20260419T090000Z
LOCATION:Gemeindehaus Stephanus\, Furkastrasse 12\, 4054 Basel
TRANSP:OPAQUE
SEQUENCE:0
UID:214902-veranstaltung@erk-bs.ch
DTSTAMP:20260421T095351Z
DESCRIPTION:Im ersten Gottesdienst nach Ostern im Stephanus-Gemeindehaus
  laden wir Sie herzlich ein\, gemeinsam die Osterzeit weiterzudenken und
  zu feiern. Wir werden die Osterkerze entzünden und vertraute Osterlieder
  singen. Mit etwas Abstand zur Festzeit hören wir die Osterbotschaft neu
  und fragen danach\, wie sie uns in unserem gegenwärtigen Alltag begegnen
  und Orientierung geben kann. Der Predigttext ist 1. Petrus 2\,21–25.\n
 \nIm Anschluss an den Gottesdienst sind Sie herzlich zum Kirchenkaffee
  eingeladen – eine gute Gelegenheit für Begegnung\, Austausch und
  Gemeinschaft.\n\nKontakt: Esther Meyer\n\nWeitere Infos:
  https://www.erk-bs.ch/veranstaltung/214902
SUMMARY:Stephanus: Gottesdienst
PRIORITY:5
X-MICROSOFT-CDO-IMPORTANCE:1
CLASS:PUBLIC
END:VEVENT
END:VCALENDAR
