BEGIN:VCALENDAR
PRODID:-//kirchenweb.ch gmbh//veranstaltungsausgabe v2.0//DE
VERSION:2.0
METHOD:PUBLISH
BEGIN:VEVENT
DTSTART:20260426T080000Z
DTEND:20260426T090000Z
LOCATION:Peterskirche\, Peterskirchplatz 7\, 4051 Basel
TRANSP:OPAQUE
SEQUENCE:0
UID:214903-veranstaltung@erk-bs.ch
DTSTAMP:20260423T155920Z
DESCRIPTION:Im Mittelpunkt des Gottesdienstes steht das Wort Jesu aus dem
  Johannesevangelium: «Ich bin der Weinstock\, ihr seid die Reben.»
  (Johannes 15\,1 – 8) Die damit verbundenen Fragen: Was trägt uns?
  Woraus leben wir? Und wie bleiben wir verbunden – mit Gott\, mit
  anderen Menschen\, mit uns selbst? begleiten uns im Gottesdienst. Der
  Sonntag Jubilate lädt dazu ein\, das Leben neu als Geschenk erfahren und
  zu feiern! Den Raum verantwortet Mohan (Tara) Sapkota und Pfarrerin
  Rebekka Scartazzini gestaltet Liturgie und Predigt. Wir hören von
  Ekaterina Kofanova festliche Orgelmusik von Johann Sebastian Bach und
  feiern singend\, betend und frohgemut als Gemeinschaft. Wie immer sind
  wir nach dem Gottesdienst in den Sunntigsdräff eingeladen\, wo wir den
  Sonntagmorgen gemütlich ausklingen lassen können. Seien Sie herzlich
  willkommen mit uns Jubilate zu feiern!\n\nKontakt: Rebekka Scartazzini\n
 \nWeitere Infos: https://www.erk-bs.ch/veranstaltung/214903
SUMMARY:St. Peter: Gottesdienst
PRIORITY:5
X-MICROSOFT-CDO-IMPORTANCE:1
CLASS:PUBLIC
END:VEVENT
END:VCALENDAR
