BEGIN:VCALENDAR
PRODID:-//kirchenweb.ch gmbh//veranstaltungsausgabe v2.0//DE
VERSION:2.0
METHOD:PUBLISH
BEGIN:VEVENT
DTSTART:20260514T080000Z
DTEND:20260514T090000Z
LOCATION:Peterskirche\, Peterskirchplatz 7\, 4051 Basel
TRANSP:OPAQUE
SEQUENCE:0
UID:214910-veranstaltung@erk-bs.ch
DTSTAMP:20260410T134735Z
DESCRIPTION:Kontakt: Vikarin Esther Maria Meyer\n\nWeitere Infos:
  https://www.erk-bs.ch/veranstaltung/214910
SUMMARY:St. Peter: Gottesdienst zu Auffahrt
PRIORITY:5
X-MICROSOFT-CDO-IMPORTANCE:1
CLASS:PUBLIC
END:VEVENT
END:VCALENDAR
