BEGIN:VCALENDAR
PRODID:-//kirchenweb.ch gmbh//veranstaltungsausgabe v2.0//DE
VERSION:2.0
METHOD:PUBLISH
BEGIN:VEVENT
DTSTART:20260531T080000Z
DTEND:20260531T090000Z
LOCATION:Johanneskirche\, Mülhauserstrasse 145\, 4056 Basel
TRANSP:OPAQUE
SEQUENCE:0
UID:214915-veranstaltung@erk-bs.ch
DTSTAMP:20251103T151003Z
DESCRIPTION:Kontakt: Elias Jenni\, Esther Meyer\n\nWeitere Infos:
  https://www.erk-bs.ch/veranstaltung/214915
SUMMARY:Johannes: Kurz-Gottesdienst\, danach Kirchgemeindeversammlung
PRIORITY:5
X-MICROSOFT-CDO-IMPORTANCE:1
CLASS:PUBLIC
END:VEVENT
END:VCALENDAR
