BEGIN:VCALENDAR
PRODID:-//kirchenweb.ch gmbh//veranstaltungsausgabe v2.0//DE
VERSION:2.0
METHOD:PUBLISH
BEGIN:VEVENT
DTSTART:20260614T080000Z
DTEND:20260614T090000Z
LOCATION:Peterskirche\, Peterskirchplatz 7\, 4051 Basel
TRANSP:OPAQUE
SEQUENCE:0
UID:214918-veranstaltung@erk-bs.ch
DTSTAMP:20250813T143336Z
DESCRIPTION:Kontakt: Elias Jenni\n\nWeitere Infos:
  https://www.erk-bs.ch/veranstaltung/214918
SUMMARY:St. Peter: Gottesdienst
PRIORITY:5
X-MICROSOFT-CDO-IMPORTANCE:1
CLASS:PUBLIC
END:VEVENT
END:VCALENDAR
