BEGIN:VCALENDAR
PRODID:-//kirchenweb.ch gmbh//veranstaltungsausgabe v2.0//DE
VERSION:2.0
METHOD:PUBLISH
BEGIN:VEVENT
DTSTART:20260603T063000Z
DTEND:20260603T073000Z
LOCATION:Zwinglihaus\, \,
TRANSP:OPAQUE
SEQUENCE:0
UID:215000-veranstaltung@erk-bs.ch
DTSTAMP:20250815T061419Z
DESCRIPTION:Kontakt: Käthi Beimler\nArmin Marggraf\n\nWeitere Infos:
  https://www.erk-bs.ch/veranstaltung/215000
SUMMARY:zMorge
PRIORITY:5
X-MICROSOFT-CDO-IMPORTANCE:1
CLASS:PUBLIC
END:VEVENT
END:VCALENDAR
