BEGIN:VCALENDAR
PRODID:-//kirchenweb.ch gmbh//veranstaltungsausgabe v2.0//DE
VERSION:2.0
METHOD:PUBLISH
BEGIN:VEVENT
DTSTART:20260801T143000Z
DTEND:20260801T144500Z
LOCATION:vom Turm oder im Kreuzgang\, Münsterplatz 9\, 4051 Basel
TRANSP:OPAQUE
SEQUENCE:0
UID:215140-veranstaltung@erk-bs.ch
DTSTAMP:20260306T145624Z
DESCRIPTION:Kontakt: Phillip Boyle\n\nWeitere Infos:
  https://www.erk-bs.ch/veranstaltung/215140
SUMMARY:Vesperblasen des Stadtposaunenchors
PRIORITY:5
X-MICROSOFT-CDO-IMPORTANCE:1
CLASS:PUBLIC
END:VEVENT
END:VCALENDAR
