BEGIN:VCALENDAR
PRODID:-//kirchenweb.ch gmbh//veranstaltungsausgabe v2.0//DE
VERSION:2.0
METHOD:PUBLISH
BEGIN:VEVENT
DTSTART:20251012T080000Z
DTEND:20251012T100000Z
LOCATION:Kornfeldkirche\, Kornfeldstr. 51\, 4125 Riehen
TRANSP:OPAQUE
SEQUENCE:0
UID:215211-veranstaltung@erk-bs.ch
DTSTAMP:20250818T154838Z
DESCRIPTION:Kinder von 2-14 Jahren treffen sich in 4 verschiedenen Gruppen
  nach einem gemeinsamen  Anfang im Gottesdienst zum: Singen\, Geschichten
  aus der Bibel erleben\, Spiel und Sport und zu Kreativem.  Im Anschluss
  geniessen alle gemeinsam ein Z`nüni. \n\nKontakt: Maya Frei\n\nWeitere
  Infos: https://www.erk-bs.ch/veranstaltung/215211
SUMMARY:Kinderträff Kornfeld
PRIORITY:5
X-MICROSOFT-CDO-IMPORTANCE:1
CLASS:PUBLIC
END:VEVENT
END:VCALENDAR
