BEGIN:VCALENDAR
PRODID:-//kirchenweb.ch gmbh//veranstaltungsausgabe v2.0//DE
VERSION:2.0
METHOD:PUBLISH
BEGIN:VEVENT
DTSTART:20251018T080000Z
DTEND:20251018T110000Z
LOCATION:Kornfeldkirche\, Kornfeldstr. 51\, 4125 Riehe\, 4125 Riehen
TRANSP:OPAQUE
SEQUENCE:0
UID:215219-veranstaltung@erk-bs.ch
DTSTAMP:20250818T155151Z
DESCRIPTION:Bei Kirche Kunterbunt entdecken Kinder zwischen 5 bis 12
  Jahren den Glauben und die Kirche\, gemeinsam mit ihren Familien und
  Bezugspersonen. Auf unkonventionelle\, kreative und fröhliche Art und
  Weise lernen wir eine Geschichte von der Bibel kennen\, singen\, besuchen
  Aktivposten und essen am Ende gemeinsam Zmittag (freiwillig). \n
 \nKontakt: Maya Frei\n\nWeitere Infos:
  https://www.erk-bs.ch/veranstaltung/215219
SUMMARY:Kirche Kunterbunt
PRIORITY:5
X-MICROSOFT-CDO-IMPORTANCE:1
CLASS:PUBLIC
END:VEVENT
END:VCALENDAR
