BEGIN:VCALENDAR
PRODID:-//kirchenweb.ch gmbh//veranstaltungsausgabe v2.0//DE
VERSION:2.0
METHOD:PUBLISH
BEGIN:VEVENT
DTSTART:20251120T090000Z
DTEND:20251120T100000Z
LOCATION:Eulerstube\, Kirchplatz 7\, 4125 Riehen
TRANSP:OPAQUE
SEQUENCE:0
UID:215249-veranstaltung@erk-bs.ch
DTSTAMP:20251009T072649Z
DESCRIPTION:jeweils Donnerstag von 10.00 -11.00 Uhr in der Eulerstube \n
 \nWir laden Sie ganz herzlich zu Kaffee und Bibellesen ein. Eine Anmeldung
  ist nicht erforderlich. \n\n\n\n\nKontakt: Pfarrerin Martina Holder\n
 \nWeitere Infos: https://www.erk-bs.ch/veranstaltung/215249
SUMMARY:Bibelcafé Donnerstag
PRIORITY:5
X-MICROSOFT-CDO-IMPORTANCE:1
CLASS:PUBLIC
END:VEVENT
END:VCALENDAR
