BEGIN:VCALENDAR
PRODID:-//kirchenweb.ch gmbh//veranstaltungsausgabe v2.0//DE
VERSION:2.0
METHOD:PUBLISH
BEGIN:VEVENT
DTSTART:20251021T080000Z
DTEND:20251021T100000Z
LOCATION:Eulerstube\, \,
TRANSP:OPAQUE
SEQUENCE:0
UID:215262-veranstaltung@erk-bs.ch
DTSTAMP:20250819T102623Z
DESCRIPTION:Pfarrer Dan Holder\n\nKontakt: dan.holder@erk-bs.ch\n\nWeitere
  Infos: https://www.erk-bs.ch/veranstaltung/215262
SUMMARY:Bibelcafé Dienstag
PRIORITY:5
X-MICROSOFT-CDO-IMPORTANCE:1
CLASS:PUBLIC
END:VEVENT
END:VCALENDAR
