BEGIN:VCALENDAR
PRODID:-//kirchenweb.ch gmbh//veranstaltungsausgabe v2.0//DE
VERSION:2.0
METHOD:PUBLISH
BEGIN:VEVENT
DTSTART:20251019T080000Z
DTEND:20251019T090000Z
LOCATION:Dorfkirche\, Kirchplatz\, 4125 Riehen
TRANSP:OPAQUE
SEQUENCE:0
UID:215278-veranstaltung@erk-bs.ch
DTSTAMP:20250820T074816Z
DESCRIPTION:Kontakt: Silas Deutscher\n\nWeitere Infos:
  https://www.erk-bs.ch/veranstaltung/215278
SUMMARY:Gottesdienst "Himmelwärts"
PRIORITY:5
X-MICROSOFT-CDO-IMPORTANCE:1
CLASS:PUBLIC
END:VEVENT
END:VCALENDAR
