BEGIN:VCALENDAR
PRODID:-//kirchenweb.ch gmbh//veranstaltungsausgabe v2.0//DE
VERSION:2.0
METHOD:PUBLISH
BEGIN:VEVENT
DTSTART:20251116T090000Z
DTEND:20251116T100000Z
LOCATION:Dorfkirche\, Kirchplatz\, 4125 Riehen
TRANSP:OPAQUE
SEQUENCE:0
UID:215279-veranstaltung@erk-bs.ch
DTSTAMP:20250820T074926Z
DESCRIPTION:+ CSI\n\nKontakt: Silas Deutscher\n\nWeitere Infos:
  https://www.erk-bs.ch/veranstaltung/215279
SUMMARY:Gottesdienst "Himmelwärts"
PRIORITY:5
X-MICROSOFT-CDO-IMPORTANCE:1
CLASS:PUBLIC
END:VEVENT
END:VCALENDAR
