BEGIN:VCALENDAR
PRODID:-//kirchenweb.ch gmbh//veranstaltungsausgabe v2.0//DE
VERSION:2.0
METHOD:PUBLISH
BEGIN:VEVENT
DTSTART:20260502T103000Z
DTEND:20260502T113000Z
LOCATION:Münster\, Münsterplatz 9\, 4051 Basel
TRANSP:OPAQUE
SEQUENCE:0
UID:215354-veranstaltung@erk-bs.ch
DTSTAMP:20260129T133659Z
DESCRIPTION:Kurzfristige Schliessung (z.B. wegen Konzerten\, Abdankungen\,
  Bauarbeiten)\n\nKontakt: sandra.schmied@erk-bs.ch\n\nWeitere Infos:
  https://www.erk-bs.ch/veranstaltung/215354
SUMMARY:Münster geschlossen\, bis 14.45 Uhr
PRIORITY:5
X-MICROSOFT-CDO-IMPORTANCE:1
CLASS:PUBLIC
END:VEVENT
END:VCALENDAR
