BEGIN:VCALENDAR
PRODID:-//kirchenweb.ch gmbh//veranstaltungsausgabe v2.0//DE
VERSION:2.0
METHOD:PUBLISH
BEGIN:VEVENT
DTSTART:20260620T143000Z
DTEND:20260620T163000Z
LOCATION:Zwinglihaus\, \,
TRANSP:OPAQUE
SEQUENCE:0
UID:215363-veranstaltung@erk-bs.ch
DTSTAMP:20251001T052658Z
DESCRIPTION:Kontakt: Sabine Bürk\nThomas Braun\n\nWeitere Infos:
  https://www.erk-bs.ch/veranstaltung/215363
SUMMARY:Offenes Singen
PRIORITY:5
X-MICROSOFT-CDO-IMPORTANCE:1
CLASS:PUBLIC
END:VEVENT
END:VCALENDAR
