BEGIN:VCALENDAR
PRODID:-//kirchenweb.ch gmbh//veranstaltungsausgabe v2.0//DE
VERSION:2.0
METHOD:PUBLISH
BEGIN:VEVENT
DTSTART:20260425T090000Z
DTEND:20260425T100000Z
LOCATION:Gemeindesaal\, Bischofshof\, Rittergasse 1\, 4051 Basel
TRANSP:OPAQUE
SEQUENCE:0
UID:215392-veranstaltung@erk-bs.ch
DTSTAMP:20260129T083710Z
DESCRIPTION:Biblische Geschichten\, singen\, basteln\, spielen. Ein
  Kindergottesdienst einmal im Monat eine Stunde am Samstagvormittag für
  Kinder ab dem Kindergartenalter.\n\n\nWeitere Termine:\n\n\n\nKontakt:
  Tina Dettwiler\n\nWeitere Infos:
  https://www.erk-bs.ch/veranstaltung/215392
SUMMARY:Kinderkirche am Samstag
PRIORITY:5
X-MICROSOFT-CDO-IMPORTANCE:1
CLASS:PUBLIC
END:VEVENT
END:VCALENDAR
