BEGIN:VCALENDAR
PRODID:-//kirchenweb.ch gmbh//veranstaltungsausgabe v2.0//DE
VERSION:2.0
METHOD:PUBLISH
BEGIN:VEVENT
DTSTART:20260920T080000Z
DTEND:20260920T093000Z
LOCATION:Gemeindesaal\, Bischofshof\, Rittergasse 1\, 4051 Basel
TRANSP:OPAQUE
SEQUENCE:0
UID:215401-veranstaltung@erk-bs.ch
DTSTAMP:20260129T085043Z
DESCRIPTION:Wir beginnen um 10 Uhr im Münster mit den Erwachsenen und
  gehen dann in den Gemeindesaal zu unserer Feier.\nKinder ab dem
  Kindergartenalter.\n\nWeitere Termine:\n\n\n\nKontakt: Tina Dettwiler\n
 \nWeitere Infos: https://www.erk-bs.ch/veranstaltung/215401
SUMMARY:Kinderkirche am Sonntag
PRIORITY:5
X-MICROSOFT-CDO-IMPORTANCE:1
CLASS:PUBLIC
END:VEVENT
END:VCALENDAR
