BEGIN:VCALENDAR
PRODID:-//kirchenweb.ch gmbh//veranstaltungsausgabe v2.0//DE
VERSION:2.0
METHOD:PUBLISH
BEGIN:VEVENT
DTSTART:20251015T123000Z
DTEND:20251015T140000Z
LOCATION:Andreashaus\, Keltenweg 41\, 4125 Riehen
TRANSP:OPAQUE
SEQUENCE:0
UID:215421-veranstaltung@erk-bs.ch
DTSTAMP:20250911T131532Z
DESCRIPTION:Herbstkonzert\nVariationen von Beethoven\, Mendelssohn und
  Chopin\n\nGespielt von Thomas Brodtbeck am Flügel\n\nDauer: 1 Stunde
 \nanschliessend Zvieri und Kaffee im Foyer\n\nEintritt frei\, Kollekte
  für die Pfarrstelle Kornfeld-Andreas\n\n\nKontakt: Suzanne Schmidt\n
 \nWeitere Infos: https://www.erk-bs.ch/veranstaltung/215421
SUMMARY:Herbstkonzert
PRIORITY:5
X-MICROSOFT-CDO-IMPORTANCE:1
CLASS:PUBLIC
END:VEVENT
END:VCALENDAR
