BEGIN:VCALENDAR
PRODID:-//kirchenweb.ch gmbh//veranstaltungsausgabe v2.0//DE
VERSION:2.0
METHOD:PUBLISH
BEGIN:VEVENT
DTSTART:20251015T123000Z
DTEND:20251015T143000Z
LOCATION:Andreashaus\, \,
TRANSP:OPAQUE
SEQUENCE:0
UID:215428-veranstaltung@erk-bs.ch
DTSTAMP:20250825T145539Z
DESCRIPTION:Kontakt: greg.bohny@erk-bs.ch\n\nWeitere Infos:
  https://www.erk-bs.ch/veranstaltung/215428
SUMMARY:Herbstkonzert Thomas Brodbeck
PRIORITY:5
X-MICROSOFT-CDO-IMPORTANCE:1
CLASS:PUBLIC
END:VEVENT
END:VCALENDAR
