BEGIN:VCALENDAR
PRODID:-//kirchenweb.ch gmbh//veranstaltungsausgabe v2.0//DE
VERSION:2.0
METHOD:PUBLISH
BEGIN:VEVENT
DTSTART:20260428T160000Z
DTEND:20260428T170000Z
LOCATION:Theodorskirche\, Theodorskirchplatz 5\, 4058 Basel
TRANSP:OPAQUE
SEQUENCE:0
UID:215660-veranstaltung@erk-bs.ch
DTSTAMP:20260316T132724Z
DESCRIPTION:Fröhliches (Aus-)tauschen.\n\n18.00 Uhr: Kleider bringen
 \n18.15 Uhr: tauschen\n19.30 Uhr: aufräumen. \n\nNeben Kleidern darf auch
  etwas zum Knabbern mitgebracht werden.\n\nKontakt:
  esther.mueller-kb@erk-bs.ch\n\nWeitere Infos:
  https://www.erk-bs.ch/veranstaltung/215660
SUMMARY:Frauenkleidertausch
PRIORITY:5
X-MICROSOFT-CDO-IMPORTANCE:1
CLASS:PUBLIC
END:VEVENT
END:VCALENDAR
