BEGIN:VCALENDAR
PRODID:-//kirchenweb.ch gmbh//veranstaltungsausgabe v2.0//DE
VERSION:2.0
METHOD:PUBLISH
BEGIN:VEVENT
DTSTART:20260816T160000Z
DTEND:20260816T170000Z
LOCATION:Münster\, Münsterplatz 9\, 4051 Basel
TRANSP:OPAQUE
SEQUENCE:0
UID:215803-veranstaltung@erk-bs.ch
DTSTAMP:20251212T144518Z
DESCRIPTION:Viermal im Jahr am Sonntagabend laden wir ein zu einer
  Abendfeier nach der Tradition von Taizé.\n\nweitere Termine: \n
 \nKontakt: sandra.schmied@erk-bs.ch\n\nWeitere Infos:
  https://www.erk-bs.ch/veranstaltung/215803
SUMMARY:Taizé Gebet
PRIORITY:5
X-MICROSOFT-CDO-IMPORTANCE:1
CLASS:PUBLIC
END:VEVENT
END:VCALENDAR
