BEGIN:VCALENDAR
PRODID:-//kirchenweb.ch gmbh//veranstaltungsausgabe v2.0//DE
VERSION:2.0
METHOD:PUBLISH
BEGIN:VEVENT
DTSTART:20260510T080000Z
DTEND:20260510T090000Z
LOCATION:Theodorskirche\, Theodorskirchplatz 5\, 4058 Basel
TRANSP:OPAQUE
SEQUENCE:0
UID:215907-veranstaltung@erk-bs.ch
DTSTAMP:20260324T134307Z
DESCRIPTION:Anschliessend Orgelgeschichte für Kinder mit Barbara Piatti
  und Nicoleta Paraschivescu\n\nKontakt: Katharina Autenrieth-Fischlewitz\n
 \nWeitere Infos: https://www.erk-bs.ch/veranstaltung/215907
SUMMARY:Gottesdienst für Klein & Gross mit Tauferinnerung und Teilete
PRIORITY:5
X-MICROSOFT-CDO-IMPORTANCE:1
CLASS:PUBLIC
END:VEVENT
END:VCALENDAR
