BEGIN:VCALENDAR
PRODID:-//kirchenweb.ch gmbh//veranstaltungsausgabe v2.0//DE
VERSION:2.0
METHOD:PUBLISH
BEGIN:VEVENT
DTSTART:20251015T180000Z
DTEND:20251015T190000Z
LOCATION:Kornfeldkirche\, \,
TRANSP:OPAQUE
SEQUENCE:0
UID:215910-veranstaltung@erk-bs.ch
DTSTAMP:20250911T132950Z
DESCRIPTION:Gemeinsam lesen\n\nWas ist\, wenn das Leben nicht so ablauft
  wie geplant\, wenn das Licht unerträglich wird? \nHat der lieben Gott
  immer noch alles in der Hand?\n\nGemeinsam in einer kleinen Gruppe
  möchten wir dieses Buch von Marion Muller-Colard lesen. Es vereint
  persönliche Erzählung\, Meditation und eine spirituelle Neu-Lektüre
  des Hiobbuches. Dabei lädt es zu einer originellen theologischen
  Reflexion ein.\n\nHerzliche Einladung um 20 bis 21 Uhr\, in der
  Kornfeldkirche am:\n\n15.Oktober Einführung\, Aussteilung der Bücher 
 \n29. Oktober Prolog + Kapitel: Klage \n12.November Kapitel: Bedrohung
 \n26. November Kapitel Gnade + Epilog \n\n\n\n\nKontakt:
  emanuelle.dobler@erk-bs.ch\n\nWeitere Infos:
  https://www.erk-bs.ch/veranstaltung/215910
SUMMARY:Gemeinsam lesen
PRIORITY:5
X-MICROSOFT-CDO-IMPORTANCE:1
CLASS:PUBLIC
END:VEVENT
END:VCALENDAR
