BEGIN:VCALENDAR
PRODID:-//kirchenweb.ch gmbh//veranstaltungsausgabe v2.0//DE
VERSION:2.0
METHOD:PUBLISH
BEGIN:VEVENT
DTSTART:20251112T190000Z
DTEND:20251112T200000Z
LOCATION:Kornfeldkirche\, \,
TRANSP:OPAQUE
SEQUENCE:0
UID:215912-veranstaltung@erk-bs.ch
DTSTAMP:20250909T082355Z
DESCRIPTION:Kontakt: emanuelle.dobler@erk-bs.ch\n\nWeitere Infos:
  https://www.erk-bs.ch/veranstaltung/215912
SUMMARY:Gemeinsam lesen
PRIORITY:5
X-MICROSOFT-CDO-IMPORTANCE:1
CLASS:PUBLIC
END:VEVENT
END:VCALENDAR
