BEGIN:VCALENDAR
PRODID:-//kirchenweb.ch gmbh//veranstaltungsausgabe v2.0//DE
VERSION:2.0
METHOD:PUBLISH
BEGIN:VEVENT
DTSTART:20260926T040000Z
DTEND:20260926T215500Z
LOCATION:Italien\, \,
TRANSP:OPAQUE
SEQUENCE:0
UID:215927-veranstaltung@erk-bs.ch
DTSTAMP:20260205T122624Z
DESCRIPTION:Das diesjährige Gemeindecamp findet in Italien statt.
 \nWeitere Infos findest du hier:\n\n\nKontakt: Reto.Gloor\n\nWeitere
  Infos: https://www.erk-bs.ch/veranstaltung/215927
SUMMARY:Gemeindecamp 2026
PRIORITY:5
X-MICROSOFT-CDO-IMPORTANCE:1
CLASS:PUBLIC
END:VEVENT
END:VCALENDAR
