BEGIN:VCALENDAR
PRODID:-//kirchenweb.ch gmbh//veranstaltungsausgabe v2.0//DE
VERSION:2.0
METHOD:PUBLISH
BEGIN:VEVENT
DTSTART:20261122T100000Z
DTEND:20261122T110000Z
LOCATION:Bischofshof\, Rittergasse 1\, 4051 Basel
TRANSP:OPAQUE
SEQUENCE:0
UID:215955-veranstaltung@erk-bs.ch
DTSTAMP:20250910T062256Z
DESCRIPTION:Im Anschluss an den Gottesdienst sind alle zum Kirchenkaffi in
  der Hofstube\, Bischofshof eingeladen.\n\nKontakt:
  sandra.schmied@erk-bs.ch\n\nWeitere Infos:
  https://www.erk-bs.ch/veranstaltung/215955
SUMMARY:Kirchenkaffi
PRIORITY:5
X-MICROSOFT-CDO-IMPORTANCE:1
CLASS:PUBLIC
END:VEVENT
END:VCALENDAR
