BEGIN:VCALENDAR
PRODID:-//kirchenweb.ch gmbh//veranstaltungsausgabe v2.0//DE
VERSION:2.0
METHOD:PUBLISH
BEGIN:VEVENT
DTSTART:20261112T140000Z
DTEND:20261112T144500Z
LOCATION:Alterszentrum Zum Wasserturm\, Giornicostrasse 144 \, 4059 Basel
TRANSP:OPAQUE
SEQUENCE:0
UID:215983-veranstaltung@erk-bs.ch
DTSTAMP:20250910T095932Z
DESCRIPTION:Kontakt: Anne Lauer\n\nWeitere Infos:
  https://www.erk-bs.ch/veranstaltung/215983
SUMMARY:Gedenkgottesdienst im Alterszentrum Wasserturm
PRIORITY:5
X-MICROSOFT-CDO-IMPORTANCE:1
CLASS:PUBLIC
END:VEVENT
END:VCALENDAR
