BEGIN:VCALENDAR
PRODID:-//kirchenweb.ch gmbh//veranstaltungsausgabe v2.0//DE
VERSION:2.0
METHOD:PUBLISH
BEGIN:VEVENT
DTSTART:20260517T153000Z
DTEND:20260517T183000Z
LOCATION:Zwinglihaus\, \,
TRANSP:OPAQUE
SEQUENCE:0
UID:216004-veranstaltung@erk-bs.ch
DTSTAMP:20260304T095551Z
DESCRIPTION:Kontakt: Sabine Bürk\nClara Moser\, Tel: \n\nWeitere Infos:
  https://www.erk-bs.ch/veranstaltung/216004
SUMMARY:Suppe & Film mit Clara Moser
PRIORITY:5
X-MICROSOFT-CDO-IMPORTANCE:1
CLASS:PUBLIC
END:VEVENT
END:VCALENDAR
