BEGIN:VCALENDAR
PRODID:-//kirchenweb.ch gmbh//veranstaltungsausgabe v2.0//DE
VERSION:2.0
METHOD:PUBLISH
BEGIN:VEVENT
DTSTART:20270521T150000Z
DTEND:20270521T200000Z
LOCATION:Zwinglihaus\, Gundeldingerstrasse 370\, 4053 Basel
TRANSP:OPAQUE
SEQUENCE:0
UID:216144-veranstaltung@erk-bs.ch
DTSTAMP:20250916T075928Z
DESCRIPTION:Kontakt: harald.matern@erk-bs.ch\n\nWeitere Infos:
  https://www.erk-bs.ch/veranstaltung/216144
SUMMARY:Freiwilligenfest
PRIORITY:5
X-MICROSOFT-CDO-IMPORTANCE:1
CLASS:PUBLIC
END:VEVENT
END:VCALENDAR
