BEGIN:VCALENDAR
PRODID:-//kirchenweb.ch gmbh//veranstaltungsausgabe v2.0//DE
VERSION:2.0
METHOD:PUBLISH
BEGIN:VEVENT
DTSTART:20260829T130000Z
DTEND:20260829T160000Z
LOCATION:Kirchplatz der Gellertkirche Basel\, Christoph Merian-Platz 5\,
  4052 Basel
TRANSP:OPAQUE
SEQUENCE:0
UID:216152-veranstaltung@erk-bs.ch
DTSTAMP:20260113T102518Z
DESCRIPTION:Treffpunkt "Summerbistro"  auf dem Kirchplatz - bei trockenem
  Wetter! \nOfferiert werden feiner Kaffee vom Kaffivelo\, Getränke\,
  Kuchen und Glacés und für Kinder verschiedene Spielmöglichkeiten. \n
 \nhttps://gellertkirche.ch/gemeindeleben/quartier-aktivitaeten/#summerbist
 ro\n\nKontakt: Prisca.Setlik\n\nWeitere Infos:
  https://www.erk-bs.ch/veranstaltung/216152
SUMMARY:Summerbistro
PRIORITY:5
X-MICROSOFT-CDO-IMPORTANCE:1
CLASS:PUBLIC
END:VEVENT
END:VCALENDAR
