BEGIN:VCALENDAR
PRODID:-//kirchenweb.ch gmbh//veranstaltungsausgabe v2.0//DE
VERSION:2.0
METHOD:PUBLISH
BEGIN:VEVENT
DTSTART:20261104T133000Z
DTEND:20261104T160000Z
LOCATION:Alterszentrum Zum Wasserturm\, Giornicostrasse 144 \, 4059 Basel
TRANSP:OPAQUE
SEQUENCE:0
UID:216182-veranstaltung@erk-bs.ch
DTSTAMP:20250918T074811Z
DESCRIPTION:Wir treffen uns im Saal im UG des Pflegezentrums zum
  Wasserturm und singen gemeinsam Lieder\, hören Gedichte und Geschichten
  und geniessen beim Zvieri die Gemeinschaft und den Austausch.\n\nKontakt:
  Monika Widmer\n\nWeitere Infos:
  https://www.erk-bs.ch/veranstaltung/216182
SUMMARY:Titus: Ofebänggli - Lieder und Geschichten
PRIORITY:5
X-MICROSOFT-CDO-IMPORTANCE:1
CLASS:PUBLIC
END:VEVENT
END:VCALENDAR
