BEGIN:VCALENDAR
PRODID:-//kirchenweb.ch gmbh//veranstaltungsausgabe v2.0//DE
VERSION:2.0
METHOD:PUBLISH
BEGIN:VEVENT
DTSTART:20260522T073000Z
DTEND:20260522T090000Z
LOCATION:Titus Kirche\, Im tiefen Boden 75\, 4059 Basel
TRANSP:OPAQUE
SEQUENCE:0
UID:216467-veranstaltung@erk-bs.ch
DTSTAMP:20250919T131424Z
DESCRIPTION:Titus Mini Kids - der Treff für die Kleinen\n\nAlle zwei
  Wochen treffen sich Kinder und ihre Bezugsperson für eine gemeinsame
  Zeit bei der Tituskirche. Für die Kleinen zum Spielen\, Singen und mal
  kreativ sein\, für die Grossen zur Ermutigung und Gemeinschaft. Komm
  vorbei - alle mit Kindern von Geburt bis zur Kindergartenzeit sind
  herzlich willkommen.\n\nIndividuelles Eintrudeln und selber mitgebrachtes
  Znüni ab 9.30h. Gemeinsame Aktivität um 10h und danach Ausklang bis
  11h.\nKontakt: Laurence Thom & Patricia Schneider Matern
 \nlaurence.thom@erk-bs.ch\n\nKontakt: Laurence Thom\n\nWeitere Infos:
  https://www.erk-bs.ch/veranstaltung/216467
SUMMARY:Titus Mini Kids
PRIORITY:5
X-MICROSOFT-CDO-IMPORTANCE:1
CLASS:PUBLIC
END:VEVENT
END:VCALENDAR
