BEGIN:VCALENDAR
PRODID:-//kirchenweb.ch gmbh//veranstaltungsausgabe v2.0//DE
VERSION:2.0
METHOD:PUBLISH
BEGIN:VEVENT
DTSTART:20260611T163000Z
DTEND:20260611T173000Z
LOCATION:Heiliggeistkirche Taufkapelle\, Thiersteinerallee 51\, 4053 Basel
TRANSP:OPAQUE
SEQUENCE:0
UID:216559-veranstaltung@erk-bs.ch
DTSTAMP:20250924T165546Z
DESCRIPTION:Bitte Seiteneingang Güterstrasse benutzen\n\nKontakt: Katrin
  Schulze\n\nWeitere Infos: https://www.erk-bs.ch/veranstaltung/216559
SUMMARY:OFFLine: Abendmeditation Heiliggeist
PRIORITY:5
X-MICROSOFT-CDO-IMPORTANCE:1
CLASS:PUBLIC
END:VEVENT
END:VCALENDAR
