BEGIN:VCALENDAR
PRODID:-//kirchenweb.ch gmbh//veranstaltungsausgabe v2.0//DE
VERSION:2.0
METHOD:PUBLISH
BEGIN:VEVENT
DTSTART:20260820T163000Z
DTEND:20260820T173000Z
LOCATION:Heiliggeistkirche Taufkapelle\, Thiersteinerallee 51\, 4053 Basel
TRANSP:OPAQUE
SEQUENCE:0
UID:216563-veranstaltung@erk-bs.ch
DTSTAMP:20250924T165547Z
DESCRIPTION:Bitte Seiteneingang Güterstrasse benutzen\n\nKontakt: Katrin
  Schulze\n\nWeitere Infos: https://www.erk-bs.ch/veranstaltung/216563
SUMMARY:OFFLine: Abendmeditation Heiliggeist
PRIORITY:5
X-MICROSOFT-CDO-IMPORTANCE:1
CLASS:PUBLIC
END:VEVENT
END:VCALENDAR
