BEGIN:VCALENDAR
PRODID:-//kirchenweb.ch gmbh//veranstaltungsausgabe v2.0//DE
VERSION:2.0
METHOD:PUBLISH
BEGIN:VEVENT
DTSTART:20251112T180000Z
DTEND:20251112T193000Z
LOCATION:Kornfeldkirche\, \, 4125 Riehen
TRANSP:OPAQUE
SEQUENCE:0
UID:216685-veranstaltung@erk-bs.ch
DTSTAMP:20251002T100943Z
DESCRIPTION:Turnhalle Hintergärtenschulhaus\n\nKontakt: Maya Frei\n
 \nWeitere Infos: https://www.erk-bs.ch/veranstaltung/216685
SUMMARY:Fussball Hattrick für 6. und 7 Klässler
PRIORITY:5
X-MICROSOFT-CDO-IMPORTANCE:1
CLASS:PUBLIC
END:VEVENT
END:VCALENDAR
