BEGIN:VCALENDAR
PRODID:-//kirchenweb.ch gmbh//veranstaltungsausgabe v2.0//DE
VERSION:2.0
METHOD:PUBLISH
BEGIN:VEVENT
DTSTART:20260812T070000Z
DTEND:20260812T083000Z
LOCATION:Titus Kirche\, Im tiefen Boden 75\, 4059 Basel
TRANSP:OPAQUE
SEQUENCE:0
UID:216714-veranstaltung@erk-bs.ch
DTSTAMP:20251007T091052Z
DESCRIPTION:Kontakt: Waldtraut Mehrhof\n\nWeitere Infos:
  https://www.erk-bs.ch/veranstaltung/216714
SUMMARY:Lesegruppe
PRIORITY:5
X-MICROSOFT-CDO-IMPORTANCE:1
CLASS:PUBLIC
END:VEVENT
END:VCALENDAR
