BEGIN:VCALENDAR
PRODID:-//kirchenweb.ch gmbh//veranstaltungsausgabe v2.0//DE
VERSION:2.0
METHOD:PUBLISH
BEGIN:VEVENT
DTSTART:20260504T150000Z
DTEND:20260504T160000Z
LOCATION:Tituskirche\, Im tiefen Boden 75\, 4059 Basel
TRANSP:OPAQUE
SEQUENCE:0
UID:216732-veranstaltung@erk-bs.ch
DTSTAMP:20251023T064228Z
DESCRIPTION:CANTIENICA®-Training für alle!\nmontags\, 17-18 Uhr\n\nMit
  CANTIENICA®-Training für alle entsteht ein fortlaufender Kurs für
  Männer und Frauen jeden Alters. CANTIENICA® ist eine zertifizierte\,
  Schweizer Methode für gesunde Körperhaltung und Bewegung.\n\n\nKontakt:
  larissa.kessler@erk-bs.ch\n\nWeitere Infos:
  https://www.erk-bs.ch/veranstaltung/216732
SUMMARY:OFFLine CANTIENICA®
PRIORITY:5
X-MICROSOFT-CDO-IMPORTANCE:1
CLASS:PUBLIC
END:VEVENT
END:VCALENDAR
