BEGIN:VCALENDAR
PRODID:-//kirchenweb.ch gmbh//veranstaltungsausgabe v2.0//DE
VERSION:2.0
METHOD:PUBLISH
BEGIN:VEVENT
DTSTART:20260427T170000Z
DTEND:20260427T180000Z
LOCATION:Tituskirche\, Im tiefen Boden 75\, 4059 Basel
TRANSP:OPAQUE
SEQUENCE:0
UID:216751-veranstaltung@erk-bs.ch
DTSTAMP:20251023T064050Z
DESCRIPTION:Pilates Matte Kurs\nSeit Januar 2025 biete ich\, Naomi Hodel\,
  Sportstudentin an der Universität Basel und ausgebildete
  Pilates-Matten-Instruktorin\, im Rahmen des OFFLine-Projekts in der
  Tituskirche Pilateskurse an.\nDie Lektionen finden jeweils montags von
  19:00 bis 20:00 Uhr statt.\n\n\nKontakt: larissa.kessler@erk-bs.ch\n
 \nWeitere Infos: https://www.erk-bs.ch/veranstaltung/216751
SUMMARY:OFFLine Pilates
PRIORITY:5
X-MICROSOFT-CDO-IMPORTANCE:1
CLASS:PUBLIC
END:VEVENT
END:VCALENDAR
